BEGIN:VCALENDAR
VERSION:2.0
PRODID:-//Huu-ay-aht - ECPv6.15.20//NONSGML v1.0//EN
CALSCALE:GREGORIAN
METHOD:PUBLISH
X-ORIGINAL-URL:https://huuayaht.org
X-WR-CALDESC:Events for Huu-ay-aht
REFRESH-INTERVAL;VALUE=DURATION:PT1H
X-Robots-Tag:noindex
X-PUBLISHED-TTL:PT1H
BEGIN:VTIMEZONE
TZID:America/Vancouver
BEGIN:DAYLIGHT
TZOFFSETFROM:-0800
TZOFFSETTO:-0700
TZNAME:PDT
DTSTART:20250309T100000
END:DAYLIGHT
BEGIN:STANDARD
TZOFFSETFROM:-0700
TZOFFSETTO:-0800
TZNAME:PST
DTSTART:20251102T090000
END:STANDARD
BEGIN:DAYLIGHT
TZOFFSETFROM:-0800
TZOFFSETTO:-0700
TZNAME:PDT
DTSTART:20260308T100000
END:DAYLIGHT
BEGIN:STANDARD
TZOFFSETFROM:-0700
TZOFFSETTO:-0800
TZNAME:PST
DTSTART:20261101T090000
END:STANDARD
BEGIN:DAYLIGHT
TZOFFSETFROM:-0800
TZOFFSETTO:-0700
TZNAME:PDT
DTSTART:20270314T100000
END:DAYLIGHT
BEGIN:STANDARD
TZOFFSETFROM:-0700
TZOFFSETTO:-0800
TZNAME:PST
DTSTART:20271107T090000
END:STANDARD
BEGIN:DAYLIGHT
TZOFFSETFROM:-0800
TZOFFSETTO:-0700
TZNAME:PDT
DTSTART:20280312T100000
END:DAYLIGHT
BEGIN:STANDARD
TZOFFSETFROM:-0700
TZOFFSETTO:-0800
TZNAME:PST
DTSTART:20281105T090000
END:STANDARD
END:VTIMEZONE
BEGIN:VEVENT
DTSTART;TZID=America/Vancouver:20260427T140000
DTEND;TZID=America/Vancouver:20260427T180000
DTSTAMP:20260422T104731
CREATED:20260417T203209Z
LAST-MODIFIED:20260417T203209Z
UID:144019-1777298400-1777312800@huuayaht.org
SUMMARY:Anacla: Youth Drop-in
DESCRIPTION:Huu-ay-aht Youth ages 5 & 6 are welcome to join Youth Worker Jacquie on Mondays at the Soaring Eagle in Anacla from 2 – 6 p.m. \nShare this:\n				Print (Opens in new window)\n				Print\n			\n				Email a link to a friend (Opens in new window)\n				Email\n			\n				Share on Facebook (Opens in new window)\n				Facebook\n			\n				Share on X (Opens in new window)\n				X\n			More\n				Share on Tumblr (Opens in new window)\n				Tumblr\n			\n				Share on Reddit (Opens in new window)\n				Reddit\n			\n				Share on LinkedIn (Opens in new window)\n				LinkedIn\n			\n				Share on Pinterest (Opens in new window)\n				Pinterest
URL:https://huuayaht.org/event/anacla-youth-drop-in-2/
LOCATION:Soaring Eagle\, Lower\, Anacla
CATEGORIES:Youth Activity
END:VEVENT
BEGIN:VEVENT
DTSTART;TZID=America/Vancouver:20260427T190000
DTEND;TZID=America/Vancouver:20260427T210000
DTSTAMP:20260422T104731
CREATED:20260407T162316Z
LAST-MODIFIED:20260407T162316Z
UID:143864-1777316400-1777323600@huuayaht.org
SUMMARY:Anacla Culture Night
DESCRIPTION:House of Huu-ay-aht7 – 9 p.m.Bring your shawls and drums! \nShare this:\n				Print (Opens in new window)\n				Print\n			\n				Email a link to a friend (Opens in new window)\n				Email\n			\n				Share on Facebook (Opens in new window)\n				Facebook\n			\n				Share on X (Opens in new window)\n				X\n			More\n				Share on Tumblr (Opens in new window)\n				Tumblr\n			\n				Share on Reddit (Opens in new window)\n				Reddit\n			\n				Share on LinkedIn (Opens in new window)\n				LinkedIn\n			\n				Share on Pinterest (Opens in new window)\n				Pinterest
URL:https://huuayaht.org/event/anacla-culture-night-23/
LOCATION:House of Huu-ay-aht
CATEGORIES:Community Engagements,Culture Nights
END:VEVENT
BEGIN:VEVENT
DTSTART;TZID=America/Vancouver:20260428T140000
DTEND;TZID=America/Vancouver:20260428T180000
DTSTAMP:20260422T104731
CREATED:20260417T203446Z
LAST-MODIFIED:20260417T203446Z
UID:144021-1777384800-1777399200@huuayaht.org
SUMMARY:Anacla: Youth Free Play Drop in
DESCRIPTION:Open to All Ages! Huu-ay-aht Youth are welcome to join Youth Worker Jacquie on Tuesday at the House of Huu-ay-aht in Anacla from 2 – 6 p.m. \nShare this:\n				Print (Opens in new window)\n				Print\n			\n				Email a link to a friend (Opens in new window)\n				Email\n			\n				Share on Facebook (Opens in new window)\n				Facebook\n			\n				Share on X (Opens in new window)\n				X\n			More\n				Share on Tumblr (Opens in new window)\n				Tumblr\n			\n				Share on Reddit (Opens in new window)\n				Reddit\n			\n				Share on LinkedIn (Opens in new window)\n				LinkedIn\n			\n				Share on Pinterest (Opens in new window)\n				Pinterest
URL:https://huuayaht.org/event/anacla-youth-free-play-drop-in/
LOCATION:House of Huu-ay-aht
CATEGORIES:Youth Activity
END:VEVENT
BEGIN:VEVENT
DTSTART;TZID=America/Vancouver:20260429T103000
DTEND;TZID=America/Vancouver:20260429T150000
DTSTAMP:20260422T104731
CREATED:20260311T203536Z
LAST-MODIFIED:20260311T203618Z
UID:142820-1777458600-1777474800@huuayaht.org
SUMMARY:Service Canada Representatives to Anacla
DESCRIPTION:10:30 a.m. – 3 p.m.\nAnacla Government Office \n \nShare this:\n				Print (Opens in new window)\n				Print\n			\n				Email a link to a friend (Opens in new window)\n				Email\n			\n				Share on Facebook (Opens in new window)\n				Facebook\n			\n				Share on X (Opens in new window)\n				X\n			More\n				Share on Tumblr (Opens in new window)\n				Tumblr\n			\n				Share on Reddit (Opens in new window)\n				Reddit\n			\n				Share on LinkedIn (Opens in new window)\n				LinkedIn\n			\n				Share on Pinterest (Opens in new window)\n				Pinterest
URL:https://huuayaht.org/event/service-canada-representatives-to-anacla/
LOCATION:BC
END:VEVENT
BEGIN:VEVENT
DTSTART;TZID=America/Vancouver:20260430T100000
DTEND;TZID=America/Vancouver:20260430T140000
DTSTAMP:20260422T104731
CREATED:20260417T161227Z
LAST-MODIFIED:20260417T161227Z
UID:144000-1777543200-1777557600@huuayaht.org
SUMMARY:Executive Council Meeting
DESCRIPTION:The Executive Council will meet on Thursday\, April 30\, at 10 A.M.\, at the Anacla Government Office and Zoom for a regular meeting. If you want to observe the meeting\, please contact the Huu-ay-aht Law Clerk at lawclerk@huuayaht.org for the Zoom link.  \nTo see the agenda\, please visit our website: https://huuayaht.org/executive-council-agenda-2026/ \nShare this:\n				Print (Opens in new window)\n				Print\n			\n				Email a link to a friend (Opens in new window)\n				Email\n			\n				Share on Facebook (Opens in new window)\n				Facebook\n			\n				Share on X (Opens in new window)\n				X\n			More\n				Share on Tumblr (Opens in new window)\n				Tumblr\n			\n				Share on Reddit (Opens in new window)\n				Reddit\n			\n				Share on LinkedIn (Opens in new window)\n				LinkedIn\n			\n				Share on Pinterest (Opens in new window)\n				Pinterest
URL:https://huuayaht.org/event/executive-council-meeting-10/
LOCATION:Anacla Government Office\, 170 Nookemus Rd.\, Anacla\, BC\, V0R 1B0\, Canada
CATEGORIES:Executive Council Meetings
END:VEVENT
BEGIN:VEVENT
DTSTART;TZID=America/Vancouver:20260504T130000
DTEND;TZID=America/Vancouver:20260504T143000
DTSTAMP:20260422T104731
CREATED:20260417T172153Z
LAST-MODIFIED:20260417T172606Z
UID:144007-1777899600-1777905000@huuayaht.org
SUMMARY:Child & Family Wellness Drop-In
DESCRIPTION:ʔaaqinʔaƛḥak (Au-khin utl ḥak – How are you doing?) \nChild & Family Wellness Drop-In\nHuu-ay-aht First Nations Child and Family Wellness team is hosting a fun afternoon drop-in! There will be games\, crafts\, snacks\, and opportunities to talk about the supports offered. \n Mondays\n 1 – 2:30 p.m.Child and Family Wellness Office at the ʔumʔiiqsu Centre \nShare this:\n				Print (Opens in new window)\n				Print\n			\n				Email a link to a friend (Opens in new window)\n				Email\n			\n				Share on Facebook (Opens in new window)\n				Facebook\n			\n				Share on X (Opens in new window)\n				X\n			More\n				Share on Tumblr (Opens in new window)\n				Tumblr\n			\n				Share on Reddit (Opens in new window)\n				Reddit\n			\n				Share on LinkedIn (Opens in new window)\n				LinkedIn\n			\n				Share on Pinterest (Opens in new window)\n				Pinterest
URL:https://huuayaht.org/event/child-family-wellness-drop-in-13/
LOCATION:Child & Family Wellness at The ʔumʔiiqsu Center\, 4305 Kendall Avenue\, Port Alberni\, BC\, V9Y 9G2\, Canada
CATEGORIES:Community Supports
ATTACH;FMTTYPE=image/png:https://huuayaht.org/wp-content/uploads/2026/01/CFW-drop-in-3.png
END:VEVENT
BEGIN:VEVENT
DTSTART;TZID=America/Vancouver:20260505T110000
DTEND;TZID=America/Vancouver:20260505T140000
DTSTAMP:20260422T104731
CREATED:20260417T160823Z
LAST-MODIFIED:20260417T160824Z
UID:143997-1777978800-1777989600@huuayaht.org
SUMMARY:National Day of Awareness for Missing and Murdered Indigenous Women\, Girls and Two-Spirit Persons (MMIWG2S)
DESCRIPTION:ʔuʔaałuk (Taking care of). \nTuesday\, May 5\, is National Day of Awareness for Missing and Murdered Indigenous Women\, Girls and Two-Spirit Persons (MMIWG2S) – RED DRESS DAY. \nWear red and come join us at our pop-up tent for a BBQ\, culture\, and sharing to honour this day. \n📍Anacla Huu-ay-aht First Nations Government Office\n📍Port Alberni Huu-ay-aht First Nations Government Office\n📆 Tuesday\, May 5\n⏰ 11 a.m. – 2 p.m. \nQuestions? Contact Rena at 250-723-0100\, or Kristen at 250-728-3414. \nShare this:\n				Print (Opens in new window)\n				Print\n			\n				Email a link to a friend (Opens in new window)\n				Email\n			\n				Share on Facebook (Opens in new window)\n				Facebook\n			\n				Share on X (Opens in new window)\n				X\n			More\n				Share on Tumblr (Opens in new window)\n				Tumblr\n			\n				Share on Reddit (Opens in new window)\n				Reddit\n			\n				Share on LinkedIn (Opens in new window)\n				LinkedIn\n			\n				Share on Pinterest (Opens in new window)\n				Pinterest
URL:https://huuayaht.org/event/national-day-of-awareness-for-missing-and-murdered-indigenous-women-girls-and-two-spirit-persons-mmiwg2s/
LOCATION:Port Alberni and Anacla Offices
CATEGORIES:Community Event,Community Supports
END:VEVENT
BEGIN:VEVENT
DTSTART;TZID=America/Vancouver:20260511T130000
DTEND;TZID=America/Vancouver:20260511T143000
DTSTAMP:20260422T104731
CREATED:20260417T172230Z
LAST-MODIFIED:20260417T172425Z
UID:144009-1778504400-1778509800@huuayaht.org
SUMMARY:Child & Family Wellness Drop-In
DESCRIPTION:ʔaaqinʔaƛḥak (Au-khin utl ḥak – How are you doing?) \nChild & Family Wellness Drop-In\nHuu-ay-aht First Nations Child and Family Wellness team is hosting a fun afternoon drop-in! There will be games\, crafts\, snacks\, and opportunities to talk about the supports offered. \n Mondays\n 1 – 2:30 p.m.Child and Family Wellness Office at the ʔumʔiiqsu Centre \nShare this:\n				Print (Opens in new window)\n				Print\n			\n				Email a link to a friend (Opens in new window)\n				Email\n			\n				Share on Facebook (Opens in new window)\n				Facebook\n			\n				Share on X (Opens in new window)\n				X\n			More\n				Share on Tumblr (Opens in new window)\n				Tumblr\n			\n				Share on Reddit (Opens in new window)\n				Reddit\n			\n				Share on LinkedIn (Opens in new window)\n				LinkedIn\n			\n				Share on Pinterest (Opens in new window)\n				Pinterest
URL:https://huuayaht.org/event/child-family-wellness-drop-in-14/
LOCATION:Child & Family Wellness at The ʔumʔiiqsu Center\, 4305 Kendall Avenue\, Port Alberni\, BC\, V9Y 9G2\, Canada
CATEGORIES:Community Supports
ATTACH;FMTTYPE=image/png:https://huuayaht.org/wp-content/uploads/2026/01/CFW-drop-in-3.png
END:VEVENT
BEGIN:VEVENT
DTSTART;VALUE=DATE:20260518
DTEND;VALUE=DATE:20260519
DTSTAMP:20260422T104731
CREATED:20260112T182746Z
LAST-MODIFIED:20260112T182746Z
UID:142225-1779062400-1779148799@huuayaht.org
SUMMARY:Office Closed: Victoria Day
DESCRIPTION:The Port Alberni and Anacla Government Offices will be closed on Monday\, May 18 and will reopen on Tuesday\, May 19\, at 8:30 a.m. \nShare this:\n				Print (Opens in new window)\n				Print\n			\n				Email a link to a friend (Opens in new window)\n				Email\n			\n				Share on Facebook (Opens in new window)\n				Facebook\n			\n				Share on X (Opens in new window)\n				X\n			More\n				Share on Tumblr (Opens in new window)\n				Tumblr\n			\n				Share on Reddit (Opens in new window)\n				Reddit\n			\n				Share on LinkedIn (Opens in new window)\n				LinkedIn\n			\n				Share on Pinterest (Opens in new window)\n				Pinterest
URL:https://huuayaht.org/event/office-closed-victoria-day/
LOCATION:Port Alberni and Anacla Offices
CATEGORIES:Office Closed
END:VEVENT
BEGIN:VEVENT
DTSTART;TZID=America/Vancouver:20260525T130000
DTEND;TZID=America/Vancouver:20260525T143000
DTSTAMP:20260422T104731
CREATED:20260417T172311Z
LAST-MODIFIED:20260417T172340Z
UID:144011-1779714000-1779719400@huuayaht.org
SUMMARY:Child & Family Wellness Drop-In
DESCRIPTION:ʔaaqinʔaƛḥak (Au-khin utl ḥak – How are you doing?) \nChild & Family Wellness Drop-In\nHuu-ay-aht First Nations Child and Family Wellness team is hosting a fun afternoon drop-in! There will be games\, crafts\, snacks\, and opportunities to talk about the supports offered. \n Mondays\n 1 – 2:30 p.m.Child and Family Wellness Office at the ʔumʔiiqsu Centre \nShare this:\n				Print (Opens in new window)\n				Print\n			\n				Email a link to a friend (Opens in new window)\n				Email\n			\n				Share on Facebook (Opens in new window)\n				Facebook\n			\n				Share on X (Opens in new window)\n				X\n			More\n				Share on Tumblr (Opens in new window)\n				Tumblr\n			\n				Share on Reddit (Opens in new window)\n				Reddit\n			\n				Share on LinkedIn (Opens in new window)\n				LinkedIn\n			\n				Share on Pinterest (Opens in new window)\n				Pinterest
URL:https://huuayaht.org/event/child-family-wellness-drop-in-15/
LOCATION:Child & Family Wellness at The ʔumʔiiqsu Center\, 4305 Kendall Avenue\, Port Alberni\, BC\, V9Y 9G2\, Canada
CATEGORIES:Community Supports
ATTACH;FMTTYPE=image/png:https://huuayaht.org/wp-content/uploads/2026/01/CFW-drop-in-3.png
END:VEVENT
BEGIN:VEVENT
DTSTART;VALUE=DATE:20260622
DTEND;VALUE=DATE:20260623
DTSTAMP:20260422T104731
CREATED:20260112T182941Z
LAST-MODIFIED:20260112T182941Z
UID:142228-1782086400-1782172799@huuayaht.org
SUMMARY:Office Closed: Indigenous Peoples' Day
DESCRIPTION:The Port Alberni and Anacla Government Offices will be closed on Monday\, June 22 and will reopen on Tuesday\, June 23 at 8:30 a.m. \nShare this:\n				Print (Opens in new window)\n				Print\n			\n				Email a link to a friend (Opens in new window)\n				Email\n			\n				Share on Facebook (Opens in new window)\n				Facebook\n			\n				Share on X (Opens in new window)\n				X\n			More\n				Share on Tumblr (Opens in new window)\n				Tumblr\n			\n				Share on Reddit (Opens in new window)\n				Reddit\n			\n				Share on LinkedIn (Opens in new window)\n				LinkedIn\n			\n				Share on Pinterest (Opens in new window)\n				Pinterest
URL:https://huuayaht.org/event/office-closed-indigenous-peoples-day/
LOCATION:Port Alberni and Anacla Offices
CATEGORIES:Office Closed
END:VEVENT
BEGIN:VEVENT
DTSTART;VALUE=DATE:20260701
DTEND;VALUE=DATE:20260702
DTSTAMP:20260422T104731
CREATED:20260112T183048Z
LAST-MODIFIED:20260112T183048Z
UID:142231-1782864000-1782950399@huuayaht.org
SUMMARY:Office Closed: Canada Day
DESCRIPTION:The Port Alberni and Anacla Government Offices will be closed on Wednesday\, July 1 and will reopen on Thursday\, July 2 at 8:30 a.m. \nShare this:\n				Print (Opens in new window)\n				Print\n			\n				Email a link to a friend (Opens in new window)\n				Email\n			\n				Share on Facebook (Opens in new window)\n				Facebook\n			\n				Share on X (Opens in new window)\n				X\n			More\n				Share on Tumblr (Opens in new window)\n				Tumblr\n			\n				Share on Reddit (Opens in new window)\n				Reddit\n			\n				Share on LinkedIn (Opens in new window)\n				LinkedIn\n			\n				Share on Pinterest (Opens in new window)\n				Pinterest
URL:https://huuayaht.org/event/office-closed-canada-day/
LOCATION:Port Alberni and Anacla Offices
CATEGORIES:Office Closed
END:VEVENT
BEGIN:VEVENT
DTSTART;VALUE=DATE:20260803
DTEND;VALUE=DATE:20260804
DTSTAMP:20260422T104731
CREATED:20260112T183216Z
LAST-MODIFIED:20260112T183216Z
UID:142233-1785715200-1785801599@huuayaht.org
SUMMARY:Office Closed: BC Day
DESCRIPTION:The Port Alberni and Anacla Government Offices will be closed on Monday\, August 3 and will reopen on Tuesday\, August 4\, at 8:30 a.m. \nShare this:\n				Print (Opens in new window)\n				Print\n			\n				Email a link to a friend (Opens in new window)\n				Email\n			\n				Share on Facebook (Opens in new window)\n				Facebook\n			\n				Share on X (Opens in new window)\n				X\n			More\n				Share on Tumblr (Opens in new window)\n				Tumblr\n			\n				Share on Reddit (Opens in new window)\n				Reddit\n			\n				Share on LinkedIn (Opens in new window)\n				LinkedIn\n			\n				Share on Pinterest (Opens in new window)\n				Pinterest
URL:https://huuayaht.org/event/office-closed-bc-day/
LOCATION:Port Alberni and Anacla Offices
CATEGORIES:Office Closed
END:VEVENT
BEGIN:VEVENT
DTSTART;VALUE=DATE:20260814
DTEND;VALUE=DATE:20260816
DTSTAMP:20260422T104731
CREATED:20260112T184305Z
LAST-MODIFIED:20260112T184306Z
UID:142247-1786665600-1786838399@huuayaht.org
SUMMARY:2026 Huu-ay-aht Days
DESCRIPTION:More information to come! \nShare this:\n				Print (Opens in new window)\n				Print\n			\n				Email a link to a friend (Opens in new window)\n				Email\n			\n				Share on Facebook (Opens in new window)\n				Facebook\n			\n				Share on X (Opens in new window)\n				X\n			More\n				Share on Tumblr (Opens in new window)\n				Tumblr\n			\n				Share on Reddit (Opens in new window)\n				Reddit\n			\n				Share on LinkedIn (Opens in new window)\n				LinkedIn\n			\n				Share on Pinterest (Opens in new window)\n				Pinterest
URL:https://huuayaht.org/event/2026-huu-ay-aht-days/
LOCATION:House of Huu-ay-aht
CATEGORIES:Community Engagements,Community Event,Youth Activity
END:VEVENT
BEGIN:VEVENT
DTSTART;VALUE=DATE:20260907
DTEND;VALUE=DATE:20260908
DTSTAMP:20260422T104731
CREATED:20260112T183411Z
LAST-MODIFIED:20260112T183411Z
UID:142235-1788739200-1788825599@huuayaht.org
SUMMARY:Office Closed: Labour Day
DESCRIPTION:The Port Alberni and Anacla Government Offices will be closed on Monday\, September 7 and will reopen on Tuesday\, September 8\, at 8:30 a.m. \nShare this:\n				Print (Opens in new window)\n				Print\n			\n				Email a link to a friend (Opens in new window)\n				Email\n			\n				Share on Facebook (Opens in new window)\n				Facebook\n			\n				Share on X (Opens in new window)\n				X\n			More\n				Share on Tumblr (Opens in new window)\n				Tumblr\n			\n				Share on Reddit (Opens in new window)\n				Reddit\n			\n				Share on LinkedIn (Opens in new window)\n				LinkedIn\n			\n				Share on Pinterest (Opens in new window)\n				Pinterest
URL:https://huuayaht.org/event/office-closed-labour-day/
LOCATION:Port Alberni and Anacla Offices
CATEGORIES:Office Closed
END:VEVENT
BEGIN:VEVENT
DTSTART;VALUE=DATE:20260930
DTEND;VALUE=DATE:20261001
DTSTAMP:20260422T104731
CREATED:20260112T183542Z
LAST-MODIFIED:20260112T183542Z
UID:142237-1790726400-1790812799@huuayaht.org
SUMMARY:Office Closed: National Day of Truth and Reconciliation
DESCRIPTION:The Port Alberni and Anacla Government Offices will be closed on Wednesday\, September 30 and will reopen on Thursday\, October 1\, at 8:30 a.m. \nShare this:\n				Print (Opens in new window)\n				Print\n			\n				Email a link to a friend (Opens in new window)\n				Email\n			\n				Share on Facebook (Opens in new window)\n				Facebook\n			\n				Share on X (Opens in new window)\n				X\n			More\n				Share on Tumblr (Opens in new window)\n				Tumblr\n			\n				Share on Reddit (Opens in new window)\n				Reddit\n			\n				Share on LinkedIn (Opens in new window)\n				LinkedIn\n			\n				Share on Pinterest (Opens in new window)\n				Pinterest
URL:https://huuayaht.org/event/office-closed-national-day-of-truth-and-reconciliation/
LOCATION:Port Alberni and Anacla Offices
CATEGORIES:Office Closed
END:VEVENT
BEGIN:VEVENT
DTSTART;VALUE=DATE:20261012
DTEND;VALUE=DATE:20261013
DTSTAMP:20260422T104731
CREATED:20260112T183638Z
LAST-MODIFIED:20260112T183638Z
UID:142239-1791763200-1791849599@huuayaht.org
SUMMARY:Office Closed: Thanksgiving
DESCRIPTION:The Port Alberni and Anacla Government Offices will be closed on Monday\, October 12 and will reopen on Tuesday\, October 13\, at 8:30 a.m. \nShare this:\n				Print (Opens in new window)\n				Print\n			\n				Email a link to a friend (Opens in new window)\n				Email\n			\n				Share on Facebook (Opens in new window)\n				Facebook\n			\n				Share on X (Opens in new window)\n				X\n			More\n				Share on Tumblr (Opens in new window)\n				Tumblr\n			\n				Share on Reddit (Opens in new window)\n				Reddit\n			\n				Share on LinkedIn (Opens in new window)\n				LinkedIn\n			\n				Share on Pinterest (Opens in new window)\n				Pinterest
URL:https://huuayaht.org/event/office-closed-thanksgiving/
LOCATION:Port Alberni and Anacla Offices
CATEGORIES:Office Closed
END:VEVENT
BEGIN:VEVENT
DTSTART;VALUE=DATE:20261111
DTEND;VALUE=DATE:20261112
DTSTAMP:20260422T104731
CREATED:20260112T183805Z
LAST-MODIFIED:20260112T183805Z
UID:142241-1794355200-1794441599@huuayaht.org
SUMMARY:Office Closed: Remembrance Day
DESCRIPTION:The Port Alberni and Anacla Government Offices will be closed on Wednesday\, November 11 and will reopen on Thursday\, November 12\, at 8:30 a.m. \nShare this:\n				Print (Opens in new window)\n				Print\n			\n				Email a link to a friend (Opens in new window)\n				Email\n			\n				Share on Facebook (Opens in new window)\n				Facebook\n			\n				Share on X (Opens in new window)\n				X\n			More\n				Share on Tumblr (Opens in new window)\n				Tumblr\n			\n				Share on Reddit (Opens in new window)\n				Reddit\n			\n				Share on LinkedIn (Opens in new window)\n				LinkedIn\n			\n				Share on Pinterest (Opens in new window)\n				Pinterest
URL:https://huuayaht.org/event/office-closed-remembrance-day/
LOCATION:Port Alberni and Anacla Offices
CATEGORIES:Office Closed
END:VEVENT
BEGIN:VEVENT
DTSTART;VALUE=DATE:20261121
DTEND;VALUE=DATE:20261122
DTSTAMP:20260422T104731
CREATED:20260112T184150Z
LAST-MODIFIED:20260112T184151Z
UID:142245-1795219200-1795305599@huuayaht.org
SUMMARY:2026 Annual People's Assembly
DESCRIPTION:More information to come! \nShare this:\n				Print (Opens in new window)\n				Print\n			\n				Email a link to a friend (Opens in new window)\n				Email\n			\n				Share on Facebook (Opens in new window)\n				Facebook\n			\n				Share on X (Opens in new window)\n				X\n			More\n				Share on Tumblr (Opens in new window)\n				Tumblr\n			\n				Share on Reddit (Opens in new window)\n				Reddit\n			\n				Share on LinkedIn (Opens in new window)\n				LinkedIn\n			\n				Share on Pinterest (Opens in new window)\n				Pinterest
URL:https://huuayaht.org/event/2026-annual-peoples-assembly/
LOCATION:BC
CATEGORIES:Community Engagements,Community Event
END:VEVENT
BEGIN:VEVENT
DTSTART;VALUE=DATE:20261221
DTEND;VALUE=DATE:20270102
DTSTAMP:20260422T104731
CREATED:20260112T184005Z
LAST-MODIFIED:20260112T184005Z
UID:142243-1797811200-1798847999@huuayaht.org
SUMMARY:Office Closed: Winter Break
DESCRIPTION:The Port Alberni and Anacla Government Offices will be closed on Monday\, December 21\, and will reopen on Monday\, January 4\, 2027\, at 8:30 a.m. \nShare this:\n				Print (Opens in new window)\n				Print\n			\n				Email a link to a friend (Opens in new window)\n				Email\n			\n				Share on Facebook (Opens in new window)\n				Facebook\n			\n				Share on X (Opens in new window)\n				X\n			More\n				Share on Tumblr (Opens in new window)\n				Tumblr\n			\n				Share on Reddit (Opens in new window)\n				Reddit\n			\n				Share on LinkedIn (Opens in new window)\n				LinkedIn\n			\n				Share on Pinterest (Opens in new window)\n				Pinterest
URL:https://huuayaht.org/event/office-closed-winter-break/
LOCATION:Port Alberni and Anacla Offices
CATEGORIES:Office Closed
END:VEVENT
END:VCALENDAR