BEGIN:VCALENDAR
VERSION:2.0
PRODID:-//Huu-ay-aht - ECPv6.15.20//NONSGML v1.0//EN
CALSCALE:GREGORIAN
METHOD:PUBLISH
X-WR-CALNAME:Huu-ay-aht
X-ORIGINAL-URL:https://huuayaht.org
X-WR-CALDESC:Events for Huu-ay-aht
REFRESH-INTERVAL;VALUE=DURATION:PT1H
X-Robots-Tag:noindex
X-PUBLISHED-TTL:PT1H
BEGIN:VTIMEZONE
TZID:America/Vancouver
BEGIN:DAYLIGHT
TZOFFSETFROM:-0800
TZOFFSETTO:-0700
TZNAME:PDT
DTSTART:20250309T100000
END:DAYLIGHT
BEGIN:STANDARD
TZOFFSETFROM:-0700
TZOFFSETTO:-0800
TZNAME:PST
DTSTART:20251102T090000
END:STANDARD
BEGIN:DAYLIGHT
TZOFFSETFROM:-0800
TZOFFSETTO:-0700
TZNAME:PDT
DTSTART:20260308T100000
END:DAYLIGHT
BEGIN:STANDARD
TZOFFSETFROM:-0700
TZOFFSETTO:-0800
TZNAME:PST
DTSTART:20261101T090000
END:STANDARD
BEGIN:DAYLIGHT
TZOFFSETFROM:-0800
TZOFFSETTO:-0700
TZNAME:PDT
DTSTART:20270314T100000
END:DAYLIGHT
BEGIN:STANDARD
TZOFFSETFROM:-0700
TZOFFSETTO:-0800
TZNAME:PST
DTSTART:20271107T090000
END:STANDARD
END:VTIMEZONE
BEGIN:VEVENT
DTSTART;TZID=America/Vancouver:20260419T143000
DTEND;TZID=America/Vancouver:20260419T170000
DTSTAMP:20260421T014353
CREATED:20260407T163313Z
LAST-MODIFIED:20260407T163313Z
UID:143866-1776609000-1776618000@huuayaht.org
SUMMARY:Port Alberni Culture Night
DESCRIPTION:Alberni Valley United Church\, 3747 Church St.\, Port Alberni\, BC2:30 – 5 p.m.\n Sundays \nBring your shawls and drums! \nShare this:\n				Print (Opens in new window)\n				Print\n			\n				Email a link to a friend (Opens in new window)\n				Email\n			\n				Share on Facebook (Opens in new window)\n				Facebook\n			\n				Share on X (Opens in new window)\n				X\n			More\n				Share on Tumblr (Opens in new window)\n				Tumblr\n			\n				Share on Reddit (Opens in new window)\n				Reddit\n			\n				Share on LinkedIn (Opens in new window)\n				LinkedIn\n			\n				Share on Pinterest (Opens in new window)\n				Pinterest
URL:https://huuayaht.org/event/port-alberni-culture-night-20/
LOCATION:Alberni Valley United Church\, 3747 Church St\, Port Alberni\, BC\, V9Y 1T5\, Canada
CATEGORIES:Culture Nights
END:VEVENT
END:VCALENDAR