BEGIN:VCALENDAR
VERSION:2.0
PRODID:-//Huu-ay-aht - ECPv6.15.20//NONSGML v1.0//EN
CALSCALE:GREGORIAN
METHOD:PUBLISH
X-ORIGINAL-URL:https://huuayaht.org
X-WR-CALDESC:Events for Huu-ay-aht
REFRESH-INTERVAL;VALUE=DURATION:PT1H
X-Robots-Tag:noindex
X-PUBLISHED-TTL:PT1H
BEGIN:VTIMEZONE
TZID:America/Vancouver
BEGIN:DAYLIGHT
TZOFFSETFROM:-0800
TZOFFSETTO:-0700
TZNAME:PDT
DTSTART:20240310T100000
END:DAYLIGHT
BEGIN:STANDARD
TZOFFSETFROM:-0700
TZOFFSETTO:-0800
TZNAME:PST
DTSTART:20241103T090000
END:STANDARD
BEGIN:DAYLIGHT
TZOFFSETFROM:-0800
TZOFFSETTO:-0700
TZNAME:PDT
DTSTART:20250309T100000
END:DAYLIGHT
BEGIN:STANDARD
TZOFFSETFROM:-0700
TZOFFSETTO:-0800
TZNAME:PST
DTSTART:20251102T090000
END:STANDARD
BEGIN:DAYLIGHT
TZOFFSETFROM:-0800
TZOFFSETTO:-0700
TZNAME:PDT
DTSTART:20260308T100000
END:DAYLIGHT
BEGIN:STANDARD
TZOFFSETFROM:-0700
TZOFFSETTO:-0800
TZNAME:PST
DTSTART:20261101T090000
END:STANDARD
END:VTIMEZONE
BEGIN:VEVENT
DTSTART;TZID=America/Vancouver:20250109T100000
DTEND;TZID=America/Vancouver:20250109T140000
DTSTAMP:20260425T045110
CREATED:20250107T191913Z
LAST-MODIFIED:20250107T191913Z
UID:129005-1736416800-1736431200@huuayaht.org
SUMMARY:Executive Council Meeting
DESCRIPTION:ʔaała ʔuuʔuukʷaʔatḥa (I’m speaking my language). Did you know that there is a section on the agenda for Executive Council meetings to provide an opportunity for citizens and potential partners to share their ideas? Executive Council Meetings are held every second and last Thursday of the month via zoom and in person at the Anacla Government Office. If you would like to bring something forward\, please submit your materials 14 days in advance to the Law Clerk.For questions or to be added to the agenda\, please contact the law clerk at:Email: lawclerk@huuayaht.orgPhone: 250-723-0100 Ext. 111 \nShare this:\n				Print (Opens in new window)\n				Print\n			\n				Email a link to a friend (Opens in new window)\n				Email\n			\n				Share on Facebook (Opens in new window)\n				Facebook\n			\n				Share on X (Opens in new window)\n				X\n			More\n				Share on Tumblr (Opens in new window)\n				Tumblr\n			\n				Share on Reddit (Opens in new window)\n				Reddit\n			\n				Share on LinkedIn (Opens in new window)\n				LinkedIn\n			\n				Share on Pinterest (Opens in new window)\n				Pinterest
URL:https://huuayaht.org/event/executive-council-meeting-6/
LOCATION:Anacla Government Office\, 170 Nookemus Rd.\, Anacla\, BC\, V0R 1B0\, Canada
CATEGORIES:Executive Council Meetings
END:VEVENT
BEGIN:VEVENT
DTSTART;TZID=America/Vancouver:20250109T160000
DTEND;TZID=America/Vancouver:20250109T180000
DTSTAMP:20260425T045110
CREATED:20241216T202553Z
LAST-MODIFIED:20241216T202554Z
UID:128467-1736438400-1736445600@huuayaht.org
SUMMARY:Anacla Community Kitchen
DESCRIPTION:usimʔaƛin siqiiłqun tuupšiƛ ʔuuʔatup (We need to cook for supper now!). Join in to gain experience in meal planning\, cooking\, and sharing. Learn about affordable\, nutritional\, and traditional meals and recipes. Build on your skills and learn how to cater large events.To ask questions or sign-up\, please contact Kristen Young at kristen.y@huuayaht.org or 250-728-3414 \nShare this:\n				Print (Opens in new window)\n				Print\n			\n				Email a link to a friend (Opens in new window)\n				Email\n			\n				Share on Facebook (Opens in new window)\n				Facebook\n			\n				Share on X (Opens in new window)\n				X\n			More\n				Share on Tumblr (Opens in new window)\n				Tumblr\n			\n				Share on Reddit (Opens in new window)\n				Reddit\n			\n				Share on LinkedIn (Opens in new window)\n				LinkedIn\n			\n				Share on Pinterest (Opens in new window)\n				Pinterest
URL:https://huuayaht.org/event/anacla-community-kitchen/
LOCATION:House of Huu-ay-aht
CATEGORIES:Community Event
ATTACH;FMTTYPE=image/png:https://huuayaht.org/wp-content/uploads/2024/12/Anacla-Community-Kitchen-7.png
END:VEVENT
END:VCALENDAR